BEGIN:VCALENDAR
VERSION:2.0
PRODID:Work
X-PUBLISHED-TTL:P1W
BEGIN:VEVENT
UID:69e7fae625af0
DTSTART:20260429T132500Z
SEQUENCE:0
TRANSP:OPAQUE
DTEND:20260429T143000Z
SUMMARY:SuperSport School HD - National All Girls Hockey Festival '26
CLASS:PUBLIC
DTSTAMP:20260421T223206Z
BEGIN:VALARM
TRIGGER:PT0S
ACTION:DISPLAY
END:VALARM
BEGIN:VALARM
TRIGGER:-PT300S
ACTION:DISPLAY
END:VALARM
END:VEVENT
END:VCALENDAR