BEGIN:VCALENDAR
VERSION:2.0
PRODID:Work
X-PUBLISHED-TTL:P1W
BEGIN:VEVENT
UID:69e9f1bb3b548
DTSTART:20260429T145500Z
SEQUENCE:0
TRANSP:OPAQUE
DTEND:20260429T160000Z
SUMMARY:SuperSport School HD - NBL Power Series '26 HSM v HSZ
CLASS:PUBLIC
DTSTAMP:20260423T101731Z
BEGIN:VALARM
TRIGGER:PT0S
ACTION:DISPLAY
END:VALARM
BEGIN:VALARM
TRIGGER:-PT300S
ACTION:DISPLAY
END:VALARM
END:VEVENT
END:VCALENDAR