BEGIN:VCALENDAR
VERSION:2.0
PRODID:Work
X-PUBLISHED-TTL:P1W
BEGIN:VEVENT
UID:69e73faa0c67c
DTSTART:20260429T185500Z
SEQUENCE:0
TRANSP:OPAQUE
DTEND:20260429T210000Z
SUMMARY:SS Grandstand - UCL 25/26 SF2: A Madrid v Arsenal
CLASS:PUBLIC
DTSTAMP:20260421T091314Z
BEGIN:VALARM
TRIGGER:PT0S
ACTION:DISPLAY
END:VALARM
BEGIN:VALARM
TRIGGER:-PT300S
ACTION:DISPLAY
END:VALARM
END:VEVENT
END:VCALENDAR