BEGIN:VCALENDAR
VERSION:2.0
PRODID:Work
X-PUBLISHED-TTL:P1W
BEGIN:VEVENT
UID:69e74b4a9945c
DTSTART:20260430T040000Z
SEQUENCE:0
TRANSP:OPAQUE
DTEND:20260430T080000Z
SUMMARY:SS Grandstand - Asian Tour '26 Maekyung Open D1
CLASS:PUBLIC
DTSTAMP:20260421T100250Z
BEGIN:VALARM
TRIGGER:PT0S
ACTION:DISPLAY
END:VALARM
BEGIN:VALARM
TRIGGER:-PT300S
ACTION:DISPLAY
END:VALARM
END:VEVENT
END:VCALENDAR