BEGIN:VCALENDAR
VERSION:2.0
PRODID:Work
X-PUBLISHED-TTL:P1W
BEGIN:VEVENT
UID:69e73f01c8e6c
DTSTART:20260430T092700Z
SEQUENCE:0
TRANSP:OPAQUE
DTEND:20260430T121500Z
SUMMARY:ESPN HD - AFL: Collingwood vs Hawthorn
CLASS:PUBLIC
DTSTAMP:20260421T091025Z
BEGIN:VALARM
TRIGGER:PT0S
ACTION:DISPLAY
END:VALARM
BEGIN:VALARM
TRIGGER:-PT300S
ACTION:DISPLAY
END:VALARM
END:VEVENT
END:VCALENDAR