BEGIN:VCALENDAR
VERSION:2.0
PRODID:Work
X-PUBLISHED-TTL:P1W
BEGIN:VEVENT
UID:69e741d57f065
DTSTART:20260430T110000Z
SEQUENCE:0
TRANSP:OPAQUE
DTEND:20260430T130000Z
SUMMARY:SS Tennis - ATP1000 '26: Madrid Open QF3
CLASS:PUBLIC
DTSTAMP:20260421T092229Z
BEGIN:VALARM
TRIGGER:PT0S
ACTION:DISPLAY
END:VALARM
BEGIN:VALARM
TRIGGER:-PT300S
ACTION:DISPLAY
END:VALARM
END:VEVENT
END:VCALENDAR