BEGIN:VCALENDAR
VERSION:2.0
PRODID:Work
X-PUBLISHED-TTL:P1W
BEGIN:VEVENT
UID:69e73ea1b2007
DTSTART:20260430T140000Z
SEQUENCE:0
TRANSP:OPAQUE
DTEND:20260430T160000Z
SUMMARY:ESPN HD - First Take
CLASS:PUBLIC
DTSTAMP:20260421T090849Z
BEGIN:VALARM
TRIGGER:PT0S
ACTION:DISPLAY
END:VALARM
BEGIN:VALARM
TRIGGER:-PT300S
ACTION:DISPLAY
END:VALARM
END:VEVENT
END:VCALENDAR