BEGIN:VCALENDAR
VERSION:2.0
PRODID:Work
X-PUBLISHED-TTL:P1W
BEGIN:VEVENT
UID:69e73f5f56b79
DTSTART:20260430T150000Z
SEQUENCE:0
TRANSP:OPAQUE
DTEND:20260430T160000Z
SUMMARY:SS Golf - LPGA '26 Riviera Maya Open D1
CLASS:PUBLIC
DTSTAMP:20260421T091159Z
BEGIN:VALARM
TRIGGER:PT0S
ACTION:DISPLAY
END:VALARM
BEGIN:VALARM
TRIGGER:-PT300S
ACTION:DISPLAY
END:VALARM
END:VEVENT
END:VCALENDAR