BEGIN:VCALENDAR
VERSION:2.0
PRODID:Work
X-PUBLISHED-TTL:P1W
BEGIN:VEVENT
UID:69e73ea0f3d6f
DTSTART:20260430T163000Z
SEQUENCE:0
TRANSP:OPAQUE
DTEND:20260430T173000Z
SUMMARY:SuperSport PSL - The Line Up
CLASS:PUBLIC
DTSTAMP:20260421T090848Z
BEGIN:VALARM
TRIGGER:PT0S
ACTION:DISPLAY
END:VALARM
BEGIN:VALARM
TRIGGER:-PT300S
ACTION:DISPLAY
END:VALARM
END:VEVENT
END:VCALENDAR