BEGIN:VCALENDAR
VERSION:2.0
PRODID:Work
X-PUBLISHED-TTL:P1W
BEGIN:VEVENT
UID:69e810d378d16
DTSTART:20260430T180000Z
SEQUENCE:0
TRANSP:OPAQUE
DTEND:20260430T185500Z
SUMMARY:SS Variety 3 - Africa Sport On
CLASS:PUBLIC
DTSTAMP:20260422T000539Z
BEGIN:VALARM
TRIGGER:PT0S
ACTION:DISPLAY
END:VALARM
BEGIN:VALARM
TRIGGER:-PT300S
ACTION:DISPLAY
END:VALARM
END:VEVENT
END:VCALENDAR