BEGIN:VCALENDAR
VERSION:2.0
PRODID:Work
X-PUBLISHED-TTL:P1W
BEGIN:VEVENT
UID:69e7406174b96
DTSTART:20260430T174000Z
SEQUENCE:0
TRANSP:OPAQUE
DTEND:20260430T194500Z
SUMMARY:SuperSport LaLiga - UECL 25/26: SF
CLASS:PUBLIC
DTSTAMP:20260421T091617Z
BEGIN:VALARM
TRIGGER:PT0S
ACTION:DISPLAY
END:VALARM
BEGIN:VALARM
TRIGGER:-PT300S
ACTION:DISPLAY
END:VALARM
END:VEVENT
END:VCALENDAR