BEGIN:VCALENDAR
VERSION:2.0
PRODID:Work
X-PUBLISHED-TTL:P1W
BEGIN:VEVENT
UID:69e825219bf06
DTSTART:20260430T185500Z
SEQUENCE:0
TRANSP:OPAQUE
DTEND:20260430T210000Z
SUMMARY:SS Premier League - UEL 25/26: SF: N Forest v A Villa
CLASS:PUBLIC
DTSTAMP:20260422T013217Z
BEGIN:VALARM
TRIGGER:PT0S
ACTION:DISPLAY
END:VALARM
BEGIN:VALARM
TRIGGER:-PT300S
ACTION:DISPLAY
END:VALARM
END:VEVENT
END:VCALENDAR