BEGIN:VCALENDAR
VERSION:2.0
PRODID:Work
X-PUBLISHED-TTL:P1W
BEGIN:VEVENT
UID:69e8252144e02
DTSTART:20260430T185500Z
SEQUENCE:0
TRANSP:OPAQUE
DTEND:20260430T210000Z
SUMMARY:SS Variety 3 - UEL 25/26: SF: Braga v Freiburg
CLASS:PUBLIC
DTSTAMP:20260422T013217Z
BEGIN:VALARM
TRIGGER:PT0S
ACTION:DISPLAY
END:VALARM
BEGIN:VALARM
TRIGGER:-PT300S
ACTION:DISPLAY
END:VALARM
END:VEVENT
END:VCALENDAR