BEGIN:VCALENDAR
VERSION:2.0
PRODID:Work
X-PUBLISHED-TTL:P1W
BEGIN:VEVENT
UID:69e8255646aa0
DTSTART:20260430T185500Z
SEQUENCE:0
TRANSP:OPAQUE
DTEND:20260430T210000Z
SUMMARY:SuperSport LaLiga - UECL 25/26: SF: Rayo v Strasbourg
CLASS:PUBLIC
DTSTAMP:20260422T013310Z
BEGIN:VALARM
TRIGGER:PT0S
ACTION:DISPLAY
END:VALARM
BEGIN:VALARM
TRIGGER:-PT300S
ACTION:DISPLAY
END:VALARM
END:VEVENT
END:VCALENDAR