BEGIN:VCALENDAR
VERSION:2.0
PRODID:Work
X-PUBLISHED-TTL:P1W
BEGIN:VEVENT
UID:69e9f22a57e4f
DTSTART:20260501T065500Z
SEQUENCE:0
TRANSP:OPAQUE
DTEND:20260501T075500Z
SUMMARY:SuperSport School HD - Girls Hockey Challenge '26 StJ DSG v R
CLASS:PUBLIC
DTSTAMP:20260423T101922Z
BEGIN:VALARM
TRIGGER:PT0S
ACTION:DISPLAY
END:VALARM
BEGIN:VALARM
TRIGGER:-PT300S
ACTION:DISPLAY
END:VALARM
END:VEVENT
END:VCALENDAR