BEGIN:VCALENDAR
VERSION:2.0
PRODID:Work
X-PUBLISHED-TTL:P1W
BEGIN:VEVENT
UID:69e9f216d9c9e
DTSTART:20260501T075500Z
SEQUENCE:0
TRANSP:OPAQUE
DTEND:20260501T085500Z
SUMMARY:SuperSport School HD - Girls Hockey Challenge '26 StASG v HSS
CLASS:PUBLIC
DTSTAMP:20260423T101902Z
BEGIN:VALARM
TRIGGER:PT0S
ACTION:DISPLAY
END:VALARM
BEGIN:VALARM
TRIGGER:-PT300S
ACTION:DISPLAY
END:VALARM
END:VEVENT
END:VCALENDAR