BEGIN:VCALENDAR
VERSION:2.0
PRODID:Work
X-PUBLISHED-TTL:P1W
BEGIN:VEVENT
UID:69e774a3e0121
DTSTART:20260501T040000Z
SEQUENCE:0
TRANSP:OPAQUE
DTEND:20260501T090000Z
SUMMARY:SS Golf - Asian Tour '26 Maekyung Open D2
CLASS:PUBLIC
DTSTAMP:20260421T125915Z
BEGIN:VALARM
TRIGGER:PT0S
ACTION:DISPLAY
END:VALARM
BEGIN:VALARM
TRIGGER:-PT300S
ACTION:DISPLAY
END:VALARM
END:VEVENT
END:VCALENDAR