BEGIN:VCALENDAR
VERSION:2.0
PRODID:Work
X-PUBLISHED-TTL:P1W
BEGIN:VEVENT
UID:69e73f81708a7
DTSTART:20260501T070000Z
SEQUENCE:0
TRANSP:OPAQUE
DTEND:20260501T090500Z
SUMMARY:SS Rugby - SRP '26: Hurricanes v Crusaders
CLASS:PUBLIC
DTSTAMP:20260421T091233Z
BEGIN:VALARM
TRIGGER:PT0S
ACTION:DISPLAY
END:VALARM
BEGIN:VALARM
TRIGGER:-PT300S
ACTION:DISPLAY
END:VALARM
END:VEVENT
END:VCALENDAR