BEGIN:VCALENDAR
VERSION:2.0
PRODID:Work
X-PUBLISHED-TTL:P1W
BEGIN:VEVENT
UID:69e7406073672
DTSTART:20260501T093000Z
SEQUENCE:0
TRANSP:OPAQUE
DTEND:20260501T113500Z
SUMMARY:SS Rugby - SRP '26: Waratahs v Force
CLASS:PUBLIC
DTSTAMP:20260421T091616Z
BEGIN:VALARM
TRIGGER:PT0S
ACTION:DISPLAY
END:VALARM
BEGIN:VALARM
TRIGGER:-PT300S
ACTION:DISPLAY
END:VALARM
END:VEVENT
END:VCALENDAR