BEGIN:VCALENDAR
VERSION:2.0
PRODID:Work
X-PUBLISHED-TTL:P1W
BEGIN:VEVENT
UID:69e73e801bbe7
DTSTART:20260501T110000Z
SEQUENCE:0
TRANSP:OPAQUE
DTEND:20260501T120000Z
SUMMARY:SS Premier League - PL: Welcome To The Weekend
CLASS:PUBLIC
DTSTAMP:20260421T090816Z
BEGIN:VALARM
TRIGGER:PT0S
ACTION:DISPLAY
END:VALARM
BEGIN:VALARM
TRIGGER:-PT300S
ACTION:DISPLAY
END:VALARM
END:VEVENT
END:VCALENDAR