BEGIN:VCALENDAR
VERSION:2.0
PRODID:Work
X-PUBLISHED-TTL:P1W
BEGIN:VEVENT
UID:69e7414d60874
DTSTART:20260501T105000Z
SEQUENCE:0
TRANSP:OPAQUE
DTEND:20260501T123000Z
SUMMARY:SS Variety 4 - TNL '26 Div 2: Lilies v Sonnoblomo
CLASS:PUBLIC
DTSTAMP:20260421T092013Z
BEGIN:VALARM
TRIGGER:PT0S
ACTION:DISPLAY
END:VALARM
BEGIN:VALARM
TRIGGER:-PT300S
ACTION:DISPLAY
END:VALARM
END:VEVENT
END:VCALENDAR