BEGIN:VCALENDAR
VERSION:2.0
PRODID:Work
X-PUBLISHED-TTL:P1W
BEGIN:VEVENT
UID:69e9f21a43d6c
DTSTART:20260501T115500Z
SEQUENCE:0
TRANSP:OPAQUE
DTEND:20260501T125500Z
SUMMARY:SuperSport School HD - Girls Hockey Challenge '26 YHS v HGS
CLASS:PUBLIC
DTSTAMP:20260423T101906Z
BEGIN:VALARM
TRIGGER:PT0S
ACTION:DISPLAY
END:VALARM
BEGIN:VALARM
TRIGGER:-PT300S
ACTION:DISPLAY
END:VALARM
END:VEVENT
END:VCALENDAR