BEGIN:VCALENDAR
VERSION:2.0
PRODID:Work
X-PUBLISHED-TTL:P1W
BEGIN:VEVENT
UID:69e9f25018a3b
DTSTART:20260501T135500Z
SEQUENCE:0
TRANSP:OPAQUE
DTEND:20260501T145500Z
SUMMARY:SuperSport School HD - Girls Hockey Challenge '26 StCS v P Gi
CLASS:PUBLIC
DTSTAMP:20260423T102000Z
BEGIN:VALARM
TRIGGER:PT0S
ACTION:DISPLAY
END:VALARM
BEGIN:VALARM
TRIGGER:-PT300S
ACTION:DISPLAY
END:VALARM
END:VEVENT
END:VCALENDAR