BEGIN:VCALENDAR
VERSION:2.0
PRODID:Work
X-PUBLISHED-TTL:P1W
BEGIN:VEVENT
UID:69e73f85353a4
DTSTART:20260501T135500Z
SEQUENCE:0
TRANSP:OPAQUE
DTEND:20260501T150000Z
SUMMARY:SS Motorsport - F2 '26: Bahrain Practice
CLASS:PUBLIC
DTSTAMP:20260421T091237Z
BEGIN:VALARM
TRIGGER:PT0S
ACTION:DISPLAY
END:VALARM
BEGIN:VALARM
TRIGGER:-PT300S
ACTION:DISPLAY
END:VALARM
END:VEVENT
END:VCALENDAR