BEGIN:VCALENDAR
VERSION:2.0
PRODID:Work
X-PUBLISHED-TTL:P1W
BEGIN:VEVENT
UID:69e741951f257
DTSTART:20260501T135900Z
SEQUENCE:0
TRANSP:OPAQUE
DTEND:20260501T160000Z
SUMMARY:ESPN HD - BAL: Club Africain vs Maktown Flyers
CLASS:PUBLIC
DTSTAMP:20260421T092125Z
BEGIN:VALARM
TRIGGER:PT0S
ACTION:DISPLAY
END:VALARM
BEGIN:VALARM
TRIGGER:-PT300S
ACTION:DISPLAY
END:VALARM
END:VEVENT
END:VCALENDAR