BEGIN:VCALENDAR
VERSION:2.0
PRODID:Work
X-PUBLISHED-TTL:P1W
BEGIN:VEVENT
UID:69e73eff19422
DTSTART:20260501T140000Z
SEQUENCE:0
TRANSP:OPAQUE
DTEND:20260501T160000Z
SUMMARY:SS Tennis - ATP1000 '26: Madrid Open SF1
CLASS:PUBLIC
DTSTAMP:20260421T091023Z
BEGIN:VALARM
TRIGGER:PT0S
ACTION:DISPLAY
END:VALARM
BEGIN:VALARM
TRIGGER:-PT300S
ACTION:DISPLAY
END:VALARM
END:VEVENT
END:VCALENDAR