BEGIN:VCALENDAR
VERSION:2.0
PRODID:Work
X-PUBLISHED-TTL:P1W
BEGIN:VEVENT
UID:69e9f24b7c7c3
DTSTART:20260501T155500Z
SEQUENCE:0
TRANSP:OPAQUE
DTEND:20260501T165500Z
SUMMARY:SuperSport School HD - Girls Hockey Challenge '26 HSS v CGHS
CLASS:PUBLIC
DTSTAMP:20260423T101955Z
BEGIN:VALARM
TRIGGER:PT0S
ACTION:DISPLAY
END:VALARM
BEGIN:VALARM
TRIGGER:-PT300S
ACTION:DISPLAY
END:VALARM
END:VEVENT
END:VCALENDAR