BEGIN:VCALENDAR
VERSION:2.0
PRODID:Work
X-PUBLISHED-TTL:P1W
BEGIN:VEVENT
UID:69e740a60e5bd
DTSTART:20260501T162500Z
SEQUENCE:0
TRANSP:OPAQUE
DTEND:20260501T180000Z
SUMMARY:SS Motorsport - F1 '26: Miami GP Practice 1
CLASS:PUBLIC
DTSTAMP:20260421T091726Z
BEGIN:VALARM
TRIGGER:PT0S
ACTION:DISPLAY
END:VALARM
BEGIN:VALARM
TRIGGER:-PT300S
ACTION:DISPLAY
END:VALARM
END:VEVENT
END:VCALENDAR