BEGIN:VCALENDAR
VERSION:2.0
PRODID:Work
X-PUBLISHED-TTL:P1W
BEGIN:VEVENT
UID:69e8250b6e9a2
DTSTART:20260501T162500Z
SEQUENCE:0
TRANSP:OPAQUE
DTEND:20260501T180000Z
SUMMARY:SuperSport MaXimo 1 - F1 '26: Crypto.com Miami GP Treino Liv
CLASS:PUBLIC
DTSTAMP:20260422T013155Z
BEGIN:VALARM
TRIGGER:PT0S
ACTION:DISPLAY
END:VALARM
BEGIN:VALARM
TRIGGER:-PT300S
ACTION:DISPLAY
END:VALARM
END:VEVENT
END:VCALENDAR