BEGIN:VCALENDAR
VERSION:2.0
PRODID:Work
X-PUBLISHED-TTL:P1W
BEGIN:VEVENT
UID:69e7412723e17
DTSTART:20260501T170000Z
SEQUENCE:0
TRANSP:OPAQUE
DTEND:20260501T180000Z
SUMMARY:SuperSport Blitz - Sports Bulletin Around The Clock
CLASS:PUBLIC
DTSTAMP:20260421T091935Z
BEGIN:VALARM
TRIGGER:PT0S
ACTION:DISPLAY
END:VALARM
BEGIN:VALARM
TRIGGER:-PT300S
ACTION:DISPLAY
END:VALARM
END:VEVENT
END:VCALENDAR