BEGIN:VCALENDAR
VERSION:2.0
PRODID:Work
X-PUBLISHED-TTL:P1W
BEGIN:VEVENT
UID:69e73fe5843a8
DTSTART:20260501T135000Z
SEQUENCE:0
TRANSP:OPAQUE
DTEND:20260501T183000Z
SUMMARY:SS Cricket - IPL '26: RR v DC
CLASS:PUBLIC
DTSTAMP:20260421T091413Z
BEGIN:VALARM
TRIGGER:PT0S
ACTION:DISPLAY
END:VALARM
BEGIN:VALARM
TRIGGER:-PT300S
ACTION:DISPLAY
END:VALARM
END:VEVENT
END:VCALENDAR