BEGIN:VCALENDAR
VERSION:2.0
PRODID:Work
X-PUBLISHED-TTL:P1W
BEGIN:VEVENT
UID:69e741d39fab7
DTSTART:20260501T180000Z
SEQUENCE:0
TRANSP:OPAQUE
DTEND:20260501T200000Z
SUMMARY:SS Tennis - ATP1000 '26: Madrid Open SF2
CLASS:PUBLIC
DTSTAMP:20260421T092227Z
BEGIN:VALARM
TRIGGER:PT0S
ACTION:DISPLAY
END:VALARM
BEGIN:VALARM
TRIGGER:-PT300S
ACTION:DISPLAY
END:VALARM
END:VEVENT
END:VCALENDAR