BEGIN:VCALENDAR
VERSION:2.0
PRODID:Work
X-PUBLISHED-TTL:P1W
BEGIN:VEVENT
UID:69e73f093f8ed
DTSTART:20260501T184000Z
SEQUENCE:0
TRANSP:OPAQUE
DTEND:20260501T204000Z
SUMMARY:ESPN HD - SPFL: Livingston vs Aberdeen
CLASS:PUBLIC
DTSTAMP:20260421T091033Z
BEGIN:VALARM
TRIGGER:PT0S
ACTION:DISPLAY
END:VALARM
BEGIN:VALARM
TRIGGER:-PT300S
ACTION:DISPLAY
END:VALARM
END:VEVENT
END:VCALENDAR