BEGIN:VCALENDAR
VERSION:2.0
PRODID:Work
X-PUBLISHED-TTL:P1W
BEGIN:VEVENT
UID:69e73f413c85c
DTSTART:20260501T200000Z
SEQUENCE:0
TRANSP:OPAQUE
DTEND:20260501T210000Z
SUMMARY:ESPN 2 HD - NFL Live
CLASS:PUBLIC
DTSTAMP:20260421T091129Z
BEGIN:VALARM
TRIGGER:PT0S
ACTION:DISPLAY
END:VALARM
BEGIN:VALARM
TRIGGER:-PT300S
ACTION:DISPLAY
END:VALARM
END:VEVENT
END:VCALENDAR