BEGIN:VCALENDAR
VERSION:2.0
PRODID:Work
X-PUBLISHED-TTL:P1W
BEGIN:VEVENT
UID:69e7414e254d8
DTSTART:20260501T202500Z
SEQUENCE:0
TRANSP:OPAQUE
DTEND:20260501T221500Z
SUMMARY:SS Motorsport - F1 '26: Miami GP Sprint Qualifying
CLASS:PUBLIC
DTSTAMP:20260421T092014Z
BEGIN:VALARM
TRIGGER:PT0S
ACTION:DISPLAY
END:VALARM
BEGIN:VALARM
TRIGGER:-PT300S
ACTION:DISPLAY
END:VALARM
END:VEVENT
END:VCALENDAR