BEGIN:VCALENDAR
VERSION:2.0
PRODID:Work
X-PUBLISHED-TTL:P1W
BEGIN:VEVENT
UID:69e7406132b46
DTSTART:20260501T202500Z
SEQUENCE:0
TRANSP:OPAQUE
DTEND:20260501T221500Z
SUMMARY:SuperSport MaXimo 1 - F1 '26: Crypto.com Miami GP Sprint Qua
CLASS:PUBLIC
DTSTAMP:20260421T091617Z
BEGIN:VALARM
TRIGGER:PT0S
ACTION:DISPLAY
END:VALARM
BEGIN:VALARM
TRIGGER:-PT300S
ACTION:DISPLAY
END:VALARM
END:VEVENT
END:VCALENDAR