BEGIN:VCALENDAR
VERSION:2.0
PRODID:Work
X-PUBLISHED-TTL:P1W
BEGIN:VEVENT
UID:69e73e7fae87a
DTSTART:20260501T213000Z
SEQUENCE:0
TRANSP:OPAQUE
DTEND:20260501T223000Z
SUMMARY:SS Premier League - PL: Team Talks
CLASS:PUBLIC
DTSTAMP:20260421T090815Z
BEGIN:VALARM
TRIGGER:PT0S
ACTION:DISPLAY
END:VALARM
BEGIN:VALARM
TRIGGER:-PT300S
ACTION:DISPLAY
END:VALARM
END:VEVENT
END:VCALENDAR