BEGIN:VCALENDAR
VERSION:2.0
PRODID:Work
X-PUBLISHED-TTL:P1W
BEGIN:VEVENT
UID:69e8250b52876
DTSTART:20260502T030000Z
SEQUENCE:0
TRANSP:OPAQUE
DTEND:20260502T040000Z
SUMMARY:SS Grandstand - Asian Tour '26 Maekyung Open D3
CLASS:PUBLIC
DTSTAMP:20260422T013155Z
BEGIN:VALARM
TRIGGER:PT0S
ACTION:DISPLAY
END:VALARM
BEGIN:VALARM
TRIGGER:-PT300S
ACTION:DISPLAY
END:VALARM
END:VEVENT
END:VCALENDAR