BEGIN:VCALENDAR
VERSION:2.0
PRODID:Work
X-PUBLISHED-TTL:P1W
BEGIN:VEVENT
UID:69e810b0cbb63
DTSTART:20260502T065500Z
SEQUENCE:0
TRANSP:OPAQUE
DTEND:20260502T080000Z
SUMMARY:SS Motorsport - Formula E '26: Practice 2 Berlin
CLASS:PUBLIC
DTSTAMP:20260422T000504Z
BEGIN:VALARM
TRIGGER:PT0S
ACTION:DISPLAY
END:VALARM
BEGIN:VALARM
TRIGGER:-PT300S
ACTION:DISPLAY
END:VALARM
END:VEVENT
END:VCALENDAR