BEGIN:VCALENDAR
VERSION:2.0
PRODID:Work
X-PUBLISHED-TTL:P1W
BEGIN:VEVENT
UID:69e7e13318595
DTSTART:20260502T070000Z
SEQUENCE:0
TRANSP:OPAQUE
DTEND:20260502T090500Z
SUMMARY:SS Rugby - SRP '26: M Pasifika v Blues
CLASS:PUBLIC
DTSTAMP:20260421T204227Z
BEGIN:VALARM
TRIGGER:PT0S
ACTION:DISPLAY
END:VALARM
BEGIN:VALARM
TRIGGER:-PT300S
ACTION:DISPLAY
END:VALARM
END:VEVENT
END:VCALENDAR