BEGIN:VCALENDAR
VERSION:2.0
PRODID:Work
X-PUBLISHED-TTL:P1W
BEGIN:VEVENT
UID:69ea6a49bef14
DTSTART:20260502T082000Z
SEQUENCE:0
TRANSP:OPAQUE
DTEND:20260502T091000Z
SUMMARY:SS Motorsport - SBK '26: HUN Yamaha Cup Race 1
CLASS:PUBLIC
DTSTAMP:20260423T185153Z
BEGIN:VALARM
TRIGGER:PT0S
ACTION:DISPLAY
END:VALARM
BEGIN:VALARM
TRIGGER:-PT300S
ACTION:DISPLAY
END:VALARM
END:VEVENT
END:VCALENDAR