BEGIN:VCALENDAR
VERSION:2.0
PRODID:Work
X-PUBLISHED-TTL:P1W
BEGIN:VEVENT
UID:69e82555d8fe0
DTSTART:20260502T091000Z
SEQUENCE:0
TRANSP:OPAQUE
DTEND:20260502T100000Z
SUMMARY:SuperSport MaXimo 1 - SBK '26: Hungria SBK Superpole
CLASS:PUBLIC
DTSTAMP:20260422T013309Z
BEGIN:VALARM
TRIGGER:PT0S
ACTION:DISPLAY
END:VALARM
BEGIN:VALARM
TRIGGER:-PT300S
ACTION:DISPLAY
END:VALARM
END:VEVENT
END:VCALENDAR