BEGIN:VCALENDAR
VERSION:2.0
PRODID:Work
X-PUBLISHED-TTL:P1W
BEGIN:VEVENT
UID:69ea69ffc3ff8
DTSTART:20260502T105000Z
SEQUENCE:0
TRANSP:OPAQUE
DTEND:20260502T114500Z
SUMMARY:SS Motorsport - SBK '26: HUN WCR Race 1
CLASS:PUBLIC
DTSTAMP:20260423T185039Z
BEGIN:VALARM
TRIGGER:PT0S
ACTION:DISPLAY
END:VALARM
BEGIN:VALARM
TRIGGER:-PT300S
ACTION:DISPLAY
END:VALARM
END:VEVENT
END:VCALENDAR