BEGIN:VCALENDAR
VERSION:2.0
PRODID:Work
X-PUBLISHED-TTL:P1W
BEGIN:VEVENT
UID:69e9f2179309c
DTSTART:20260502T102000Z
SEQUENCE:0
TRANSP:OPAQUE
DTEND:20260502T115500Z
SUMMARY:SuperSport School HD - Virseker Noordvaal Cup '26 Hoërskool D
CLASS:PUBLIC
DTSTAMP:20260423T101903Z
BEGIN:VALARM
TRIGGER:PT0S
ACTION:DISPLAY
END:VALARM
BEGIN:VALARM
TRIGGER:-PT300S
ACTION:DISPLAY
END:VALARM
END:VEVENT
END:VCALENDAR