BEGIN:VCALENDAR
VERSION:2.0
PRODID:Work
X-PUBLISHED-TTL:P1W
BEGIN:VEVENT
UID:69e7e15b2709f
DTSTART:20260502T104500Z
SEQUENCE:0
TRANSP:OPAQUE
DTEND:20260502T115500Z
SUMMARY:SS Motorsport - SBK '26: HUN WCR Race 1
CLASS:PUBLIC
DTSTAMP:20260421T204307Z
BEGIN:VALARM
TRIGGER:PT0S
ACTION:DISPLAY
END:VALARM
BEGIN:VALARM
TRIGGER:-PT300S
ACTION:DISPLAY
END:VALARM
END:VEVENT
END:VCALENDAR