BEGIN:VCALENDAR
VERSION:2.0
PRODID:Work
X-PUBLISHED-TTL:P1W
BEGIN:VEVENT
UID:69e824c533e24
DTSTART:20260502T105500Z
SEQUENCE:0
TRANSP:OPAQUE
DTEND:20260502T125500Z
SUMMARY:SuperSport PSL - Diski Challenge 25/26: SWL v SU
CLASS:PUBLIC
DTSTAMP:20260422T013045Z
BEGIN:VALARM
TRIGGER:PT0S
ACTION:DISPLAY
END:VALARM
BEGIN:VALARM
TRIGGER:-PT300S
ACTION:DISPLAY
END:VALARM
END:VEVENT
END:VCALENDAR