BEGIN:VCALENDAR
VERSION:2.0
PRODID:Work
X-PUBLISHED-TTL:P1W
BEGIN:VEVENT
UID:69ea69be17793
DTSTART:20260502T114500Z
SEQUENCE:0
TRANSP:OPAQUE
DTEND:20260502T130000Z
SUMMARY:SS Motorsport - SBK '26: HUN SSP Race 1
CLASS:PUBLIC
DTSTAMP:20260423T184934Z
BEGIN:VALARM
TRIGGER:PT0S
ACTION:DISPLAY
END:VALARM
BEGIN:VALARM
TRIGGER:-PT300S
ACTION:DISPLAY
END:VALARM
END:VEVENT
END:VCALENDAR