BEGIN:VCALENDAR
VERSION:2.0
PRODID:Work
X-PUBLISHED-TTL:P1W
BEGIN:VEVENT
UID:69e7e16a27ff4
DTSTART:20260502T115500Z
SEQUENCE:0
TRANSP:OPAQUE
DTEND:20260502T130000Z
SUMMARY:SS Motorsport - SBK '26: HUN SSP Race 1
CLASS:PUBLIC
DTSTAMP:20260421T204322Z
BEGIN:VALARM
TRIGGER:PT0S
ACTION:DISPLAY
END:VALARM
BEGIN:VALARM
TRIGGER:-PT300S
ACTION:DISPLAY
END:VALARM
END:VEVENT
END:VCALENDAR