BEGIN:VCALENDAR
VERSION:2.0
PRODID:Work
X-PUBLISHED-TTL:P1W
BEGIN:VEVENT
UID:69ea69993c7d4
DTSTART:20260502T112500Z
SEQUENCE:0
TRANSP:OPAQUE
DTEND:20260502T133000Z
SUMMARY:SS Football - EFL 25/26: TBC v TBC
CLASS:PUBLIC
DTSTAMP:20260423T184857Z
BEGIN:VALARM
TRIGGER:PT0S
ACTION:DISPLAY
END:VALARM
BEGIN:VALARM
TRIGGER:-PT300S
ACTION:DISPLAY
END:VALARM
END:VEVENT
END:VCALENDAR