BEGIN:VCALENDAR
VERSION:2.0
PRODID:Work
X-PUBLISHED-TTL:P1W
BEGIN:VEVENT
UID:69e9f229d21bd
DTSTART:20260502T115500Z
SEQUENCE:0
TRANSP:OPAQUE
DTEND:20260502T133000Z
SUMMARY:SuperSport School HD - Virseker Noordvaal Cup '26 HSG v HMK
CLASS:PUBLIC
DTSTAMP:20260423T101921Z
BEGIN:VALARM
TRIGGER:PT0S
ACTION:DISPLAY
END:VALARM
BEGIN:VALARM
TRIGGER:-PT300S
ACTION:DISPLAY
END:VALARM
END:VEVENT
END:VCALENDAR